BEGIN:VCALENDAR

VERSION:2.0

PRODID:-//hacksw/handcal//NONSGML v1.0//EN

BEGIN:VEVENT

UID:04d25424887401659664d9821d6c49a7

DTSTAMP:20260423T112606Z

DTSTART:20260517T110000

DTEND:20260517T113000

SUMMARY:L40407500 - 315 Corbett Road, Lepperton Taranaki 4373

LOCATION:315 Corbett Road, Lepperton Taranaki 4373

END:VEVENT

END:VCALENDAR