BEGIN:VCALENDAR

VERSION:2.0

PRODID:-//hacksw/handcal//NONSGML v1.0//EN

BEGIN:VEVENT

UID:ea388999b8f48f00033fed17ddd5bf48

DTSTAMP:20260421T175114Z

DTSTART:20260513T110000

DTEND:20260513T113000

SUMMARY:L40400741 - 4869 Ohura Road, Pohokura Taranaki 4392

LOCATION:4869 Ohura Road, Pohokura Taranaki 4392

END:VEVENT

END:VCALENDAR