BEGIN:VCALENDAR

VERSION:2.0

PRODID:-//hacksw/handcal//NONSGML v1.0//EN

BEGIN:VEVENT

UID:3e89adb4f8fc4360c6b39d2adb940ec1

DTSTAMP:20260423T103452Z

DTSTART:20260513T000000

DTEND:20260513T000000

SUMMARY:L40266444 - 89 Pendarves Street, New Plymouth Central Taranaki 4312

LOCATION:89 Pendarves Street, New Plymouth Central Taranaki 4312

END:VEVENT

END:VCALENDAR