BEGIN:VCALENDAR

VERSION:2.0

PRODID:-//hacksw/handcal//NONSGML v1.0//EN

BEGIN:VEVENT

UID:537960cec57784fd117c5c35f70219b5

DTSTAMP:20260421T123555Z

DTSTART:20260513T000000

DTEND:20260513T000000

SUMMARY:L33480068 - 11 Ihaia Street, Waitara Taranaki 4320

LOCATION:11 Ihaia Street, Waitara Taranaki 4320

END:VEVENT

END:VCALENDAR