BEGIN:VCALENDAR

VERSION:2.0

PRODID:-//hacksw/handcal//NONSGML v1.0//EN

BEGIN:VEVENT

UID:a6ae29cbdaab1cd52890dfd0a740b904

DTSTAMP:20260423T112605Z

DTSTART:20260503T110000

DTEND:20260503T113000

SUMMARY:L40407500 - 315 Corbett Road, Lepperton Taranaki 4373

LOCATION:315 Corbett Road, Lepperton Taranaki 4373

END:VEVENT

END:VCALENDAR