BEGIN:VCALENDAR

VERSION:2.0

PRODID:-//hacksw/handcal//NONSGML v1.0//EN

BEGIN:VEVENT

UID:1451f18d81deaf4c37f3c875ca36b041

DTSTAMP:20260423T073609Z

DTSTART:20260502T130000

DTEND:20260502T140000

SUMMARY:L39097300 - 5 Hebe Lane, Maungaturoto Northland 0520

LOCATION:5 Hebe Lane, Maungaturoto Northland 0520

END:VEVENT

END:VCALENDAR