BEGIN:VCALENDAR

VERSION:2.0

PRODID:-//hacksw/handcal//NONSGML v1.0//EN

BEGIN:VEVENT

UID:35dbe486e7b7465f2f4a1a93b02ee886

DTSTAMP:20260421T175047Z

DTSTART:20260429T110000

DTEND:20260429T113000

SUMMARY:L40400741 - 4869 Ohura Road, Pohokura Taranaki 4392

LOCATION:4869 Ohura Road, Pohokura Taranaki 4392

END:VEVENT

END:VCALENDAR