BEGIN:VCALENDAR

VERSION:2.0

PRODID:-//hacksw/handcal//NONSGML v1.0//EN

BEGIN:VEVENT

UID:074dc78c7b020126be0357e81ace6893

DTSTAMP:20260423T053830Z

DTSTART:20260428T120000

DTEND:20260428T130000

SUMMARY:L40404928 - 2 Frederick Place, Whalers Gate Taranaki 4310

LOCATION:2 Frederick Place, Whalers Gate Taranaki 4310

END:VEVENT

END:VCALENDAR