BEGIN:VCALENDAR

VERSION:2.0

PRODID:-//hacksw/handcal//NONSGML v1.0//EN

BEGIN:VEVENT

UID:a61d9179622be383a437e1e48b913445

DTSTAMP:20260424T184525Z

DTSTART:20260426T123000

DTEND:20260426T130000

SUMMARY:L40421592 - 312F Hurford Road, Hurford Taranaki 4374

LOCATION:312F Hurford Road, Hurford Taranaki 4374

END:VEVENT

END:VCALENDAR