BEGIN:VCALENDAR

VERSION:2.0

PRODID:-//hacksw/handcal//NONSGML v1.0//EN

BEGIN:VEVENT

UID:598f1c7675132dce20de8c21fd4084cc

DTSTAMP:20260423T055049Z

DTSTART:20260426T110000

DTEND:20260426T113000

SUMMARY:L40375832 - 9D Paynters Avenue, Strandon Taranaki 4312

LOCATION:9D Paynters Avenue, Strandon Taranaki 4312

END:VEVENT

END:VCALENDAR