BEGIN:VCALENDAR

VERSION:2.0

PRODID:-//hacksw/handcal//NONSGML v1.0//EN

BEGIN:VEVENT

UID:a527c1c091da34ba85a104200737b31d

DTSTAMP:20260423T145836Z

DTSTART:20260426T130000

DTEND:20260426T133000

SUMMARY:L40102428 - 8 Dorset Avenue, Westown Taranaki 4310

LOCATION:8 Dorset Avenue, Westown Taranaki 4310

END:VEVENT

END:VCALENDAR