BEGIN:VCALENDAR

VERSION:2.0

PRODID:-//hacksw/handcal//NONSGML v1.0//EN

BEGIN:VEVENT

UID:b8f9254c6fa2320bbc57d2e045fb688e

DTSTAMP:20260423T122124Z

DTSTART:20260426T104500

DTEND:20260426T111500

SUMMARY:L39846861 - 17 Suther Street, Waverley Taranaki 4510

LOCATION:17 Suther Street, Waverley Taranaki 4510

END:VEVENT

END:VCALENDAR