BEGIN:VCALENDAR

VERSION:2.0

PRODID:-//hacksw/handcal//NONSGML v1.0//EN

BEGIN:VEVENT

UID:5bf4547155895b12786488e37d5f96d6

DTSTAMP:20260421T192635Z

DTSTART:20260426T130000

DTEND:20260426T133000

SUMMARY:L39846616 - 2 Acourt Street, Hawera Taranaki 4610

LOCATION:2 Acourt Street, Hawera Taranaki 4610

END:VEVENT

END:VCALENDAR