BEGIN:VCALENDAR

VERSION:2.0

PRODID:-//hacksw/handcal//NONSGML v1.0//EN

BEGIN:VEVENT

UID:f762fda52bcd62e60580dc196630c260

DTSTAMP:20260423T074645Z

DTSTART:20260426T121500

DTEND:20260426T124500

SUMMARY:L39459973 - 435 Barrett Road, Omata Taranaki 4374

LOCATION:435 Barrett Road, Omata Taranaki 4374

END:VEVENT

END:VCALENDAR