BEGIN:VCALENDAR

VERSION:2.0

PRODID:-//hacksw/handcal//NONSGML v1.0//EN

BEGIN:VEVENT

UID:0ea8d0ba5a1a82c8df77941d6b872b77

DTSTAMP:20260423T071739Z

DTSTART:20260426T114500

DTEND:20260426T121500

SUMMARY:L27122145 - 34 Kent Street, Patea Taranaki 4520

LOCATION:34 Kent Street, Patea Taranaki 4520

END:VEVENT

END:VCALENDAR