BEGIN:VCALENDAR

VERSION:2.0

PRODID:-//hacksw/handcal//NONSGML v1.0//EN

BEGIN:VEVENT

UID:c22869f404d2b67c5f627266157b016c

DTSTAMP:20260421T235223Z

DTSTART:20260426T123000

DTEND:20260426T130000

SUMMARY:L39452566 - 128 Pendarves Street, New Plymouth Taranaki 4312

LOCATION:128 Pendarves Street, New Plymouth Taranaki 4312

END:VEVENT

END:VCALENDAR