BEGIN:VCALENDAR

VERSION:2.0

PRODID:-//hacksw/handcal//NONSGML v1.0//EN

BEGIN:VEVENT

UID:49bfd6ea8b77717e727692b5391aaac2

DTSTAMP:20260423T074450Z

DTSTART:20260426T124500

DTEND:20260426T131500

SUMMARY:L39221316 - 2 Toko Road, Toko Taranaki 4392

LOCATION:2 Toko Road, Toko Taranaki 4392

END:VEVENT

END:VCALENDAR