BEGIN:VCALENDAR

VERSION:2.0

PRODID:-//hacksw/handcal//NONSGML v1.0//EN

BEGIN:VEVENT

UID:13b8976ae8a8ed9ebdd6c204f546ea4c

DTSTAMP:20260423T071846Z

DTSTART:20260426T134500

DTEND:20260426T141500

SUMMARY:L30991818 - 133 Raleigh Street, Brixton Taranaki 4373

LOCATION:133 Raleigh Street, Brixton Taranaki 4373

END:VEVENT

END:VCALENDAR