BEGIN:VCALENDAR

VERSION:2.0

PRODID:-//hacksw/handcal//NONSGML v1.0//EN

BEGIN:VEVENT

UID:1ddbd220719c37b67e43cddfb3b38539

DTSTAMP:20260423T091245Z

DTSTART:20260426T133000

DTEND:20260426T140000

SUMMARY:L37657067 - 85 Browne Street, Waitara Taranaki 4320

LOCATION:85 Browne Street, Waitara Taranaki 4320

END:VEVENT

END:VCALENDAR