BEGIN:VCALENDAR

VERSION:2.0

PRODID:-//hacksw/handcal//NONSGML v1.0//EN

BEGIN:VEVENT

UID:d1d750c70ad1b3331a1e60b5607d401b

DTSTAMP:20260421T124920Z

DTSTART:20260425T114500

DTEND:20260425T121500

SUMMARY:L40291973 - 28 Camberwell Road, Hawera Taranaki 4610

LOCATION:28 Camberwell Road, Hawera Taranaki 4610

END:VEVENT

END:VCALENDAR