BEGIN:VCALENDAR

VERSION:2.0

PRODID:-//hacksw/handcal//NONSGML v1.0//EN

BEGIN:VEVENT

UID:5125007bb053e59339e5ec7eec1e9e9d

DTSTAMP:20260420T162759Z

DTSTART:20260425T110000

DTEND:20260425T113000

SUMMARY:L40410193 - 25 Galt Street, Hawera Taranaki 4610

LOCATION:25 Galt Street, Hawera Taranaki 4610

END:VEVENT

END:VCALENDAR