BEGIN:VCALENDAR

VERSION:2.0

PRODID:-//hacksw/handcal//NONSGML v1.0//EN

BEGIN:VEVENT

UID:a212ac822ecbb3038375c4496f32ecdd

DTSTAMP:20260420T162412Z

DTSTART:20260425T123000

DTEND:20260425T130000

SUMMARY:L5637104 - 14 Weld Street, Normanby Taranaki 4398

LOCATION:14 Weld Street, Normanby Taranaki 4398

END:VEVENT

END:VCALENDAR